BEGIN:VCALENDAR
VERSION:2.0
PRODID:-//jEvents 2.0 for Joomla//EN
CALSCALE:GREGORIAN
METHOD:PUBLISH
BEGIN:VTIMEZONE
TZID:Asia/Kuala_Lumpur
BEGIN:STANDARD
DTSTART:20130517T000000
RDATE:20380119T111407
TZOFFSETFROM:+0800
TZOFFSETTO:+0800
TZNAME:Asia/Kuala_Lumpur +08
END:STANDARD
END:VTIMEZONE
BEGIN:VEVENT
UID:fe45d109aef32dccfaf8b98df1b15e32
CATEGORIES:Oil & Gas
SUMMARY:Middle East Refining and Petrochemicals Conference and Exhibition
LOCATION:Bahrain
DESCRIPTION;ENCODING=QUOTED-PRINTABLE:             Discover the future of refining and petrochemicals at the     
                                    Petrotech 2014 conference\n\nDiscover th
 e future of refining and petrochemicals at the Petrotech 2014 conference, w
 ith unique insights on the region’s mega projects, presentations on new tec
 hnologies, successful case studies and panel discussions led by internation
 al industry leaders. The top quality technical conference programme serves 
 as a major highlight at Petrotech 2014, typically featuring 100 high level 
 technical papers from 20 plus countries. The conference also features keyno
 te and plenary sessions which assemble high profile executives and technica
 l experts from refining and marketing organisations worldwide, as well as r
 epresentatives from associated industries, who address current issues of wi
 despread importance to the refining industry.\n
DTSTAMP:20260421T143824Z
DTSTART;TZID=Asia/Kuala_Lumpur;VALUE=DATE:20140518
DTEND;TZID=Asia/Kuala_Lumpur;VALUE=DATE:20140522
SEQUENCE:0
TRANSP:OPAQUE
END:VEVENT
END:VCALENDAR