BEGIN:VCALENDAR
VERSION:2.0
PRODID:-//jEvents 2.0 for Joomla//EN
CALSCALE:GREGORIAN
METHOD:PUBLISH
BEGIN:VTIMEZONE
TZID:Asia/Kuala_Lumpur
BEGIN:STANDARD
DTSTART:20141006T080000
RDATE:20380119T111407
TZOFFSETFROM:+0800
TZOFFSETTO:+0800
TZNAME:Asia/Kuala_Lumpur +08
END:STANDARD
END:VTIMEZONE
BEGIN:VEVENT
UID:dbbf6783732eeaa78bfe85e6caf48706
CATEGORIES:Oil & Gas
SUMMARY:Oil & Gas Fundamentals 
LOCATION:Lagos, Nigeria
DESCRIPTION;ENCODING=QUOTED-PRINTABLE:\n\n\n\n\nThis comprehensive course will provide a complete understanding o
 f the technical and commercial operations of the oil and gas industry. The 
 course will look at the industry concepts such as E&P, geology, transportat
 ion, storage, prices, legal systems, economics and more... Find out more\n\
 n
CONTACT:Courses 
DTSTAMP:20260421T143825Z
DTSTART;TZID=Asia/Kuala_Lumpur:20151007T080000
DTEND;TZID=Asia/Kuala_Lumpur:20151009T170000
SEQUENCE:0
TRANSP:OPAQUE
END:VEVENT
END:VCALENDAR