BEGIN:VCALENDAR
VERSION:2.0
PRODID:-//jEvents 2.0 for Joomla//EN
CALSCALE:GREGORIAN
METHOD:PUBLISH
BEGIN:VTIMEZONE
TZID:Asia/Kuala_Lumpur
BEGIN:STANDARD
DTSTART:20141004T080000
RDATE:20380119T111407
TZOFFSETFROM:+0800
TZOFFSETTO:+0800
TZNAME:Asia/Kuala_Lumpur +08
END:STANDARD
END:VTIMEZONE
BEGIN:VEVENT
UID:7dd76c7726a3452efe255d5ac63c5bcc
CATEGORIES:Oil & Gas
SUMMARY:LNG Markets, Supply and Pricing
LOCATION:London, UK
DESCRIPTION;ENCODING=QUOTED-PRINTABLE:\n\n\n\n\nThis course provides a detailed outlook of the current state of t
 he LNG industry, the latest market developments, current and future sources
  of supply and the different pricing mechanisms. The LNG industry is underg
 oing a major change with shifting LNG demand, multiple sources of LNG suppl
 y, new players, new technology, evolving business models and a re-allocatio
 n of risk and reward between buyers and sellers.\nThis course will help par
 ticipants understand the complex transformations taking place and show how 
 to embrace this change to adapt and compete in the LNG business..... Find o
 ut more\n\n
CONTACT:Courses 
DTSTAMP:20260421T161758Z
DTSTART;TZID=Asia/Kuala_Lumpur:20151005T080000
DTEND;TZID=Asia/Kuala_Lumpur:20151007T170000
SEQUENCE:0
TRANSP:OPAQUE
END:VEVENT
END:VCALENDAR