BEGIN:VCALENDAR
VERSION:2.0
PRODID:-//jEvents 2.0 for Joomla//EN
CALSCALE:GREGORIAN
METHOD:PUBLISH
BEGIN:VTIMEZONE
TZID:Asia/Kuala_Lumpur
BEGIN:STANDARD
DTSTART:20140809T080000
RDATE:20380119T111407
TZOFFSETFROM:+0800
TZOFFSETTO:+0800
TZNAME:Asia/Kuala_Lumpur +08
END:STANDARD
END:VTIMEZONE
BEGIN:VEVENT
UID:d320b289d70d78e88424a6d378129085
CATEGORIES:Oil & Gas
SUMMARY:Indonesia’s Upstream Oil & Gas Contracts
LOCATION:Bali, Indonesia
DESCRIPTION;ENCODING=QUOTED-PRINTABLE:\n\n\n\n\nCWC School for Energy has designed this course to promote an unde
 rstanding of the legal framework in the Indonesian upstream oil & gas busin
 ess with a special focus on the Production Sharing Contracts, insight into 
 Indonesia’s law revision and the opportunities ahead.\nThe programme will o
 ffer oil and gas professionals a unique opportunity to broaden their unders
 tanding of the legal fundamentals and the contractual relationship between 
 the State and the oil and gas companies. Further to this, the programme wil
 l also examine the procedures on assignment of the PSC’s participating inte
 rest... Find out more\n\n
CONTACT:Courses 
DTSTAMP:20260421T143209Z
DTSTART;TZID=Asia/Kuala_Lumpur:20150810T080000
DTEND;TZID=Asia/Kuala_Lumpur:20150812T170000
SEQUENCE:0
TRANSP:OPAQUE
END:VEVENT
END:VCALENDAR