BEGIN:VCALENDAR
VERSION:2.0
PRODID:-//jEvents 2.0 for Joomla//EN
CALSCALE:GREGORIAN
METHOD:PUBLISH
BEGIN:VTIMEZONE
TZID:Asia/Kuala_Lumpur
BEGIN:STANDARD
DTSTART:20140802T080000
RDATE:20380119T111407
TZOFFSETFROM:+0800
TZOFFSETTO:+0800
TZNAME:Asia/Kuala_Lumpur +08
END:STANDARD
END:VTIMEZONE
BEGIN:VEVENT
UID:8c44eab9312f30f50be307bda802d41c
CATEGORIES:Oil & Gas
SUMMARY:Production Sharing Contracts - Advanced Master Class
LOCATION:Amsterdam, The Netherlands
DESCRIPTION;ENCODING=QUOTED-PRINTABLE:\n\n\n\n\nThis course will analyse in-depth the key legal, fiscal and comme
 rcial aspects of Production Sharing Contracts (PSCs) in the context of othe
 r host government contracts around the world. These often complex agreement
 s have a number of fiscal formulas and accompanying legal clauses which mea
 ns understanding the way they work is crucial to ensure a smooth contract i
 mplementation. Through a detailed analysis of the issues, clauses, comparat
 ive case studies, and in-depth computer analysis this course will provide s
 ophisticated insight and further enhance participant’s legal and fiscal kno
 wledge of PSCs... Find out more\n\n
CONTACT:Courses 
DTSTAMP:20260421T143041Z
DTSTART;TZID=Asia/Kuala_Lumpur:20150803T080000
DTEND;TZID=Asia/Kuala_Lumpur:20150807T170000
SEQUENCE:0
TRANSP:OPAQUE
END:VEVENT
END:VCALENDAR