BEGIN:VCALENDAR
VERSION:2.0
PRODID:-//jEvents 2.0 for Joomla//EN
CALSCALE:GREGORIAN
METHOD:PUBLISH
BEGIN:VTIMEZONE
TZID:Asia/Kuala_Lumpur
BEGIN:STANDARD
DTSTART:20140727T080000
RDATE:20380119T111407
TZOFFSETFROM:+0800
TZOFFSETTO:+0800
TZNAME:Asia/Kuala_Lumpur +08
END:STANDARD
END:VTIMEZONE
BEGIN:VEVENT
UID:ff2d572b0a05da737470ce3241fa6fb2
CATEGORIES:Oil & Gas
SUMMARY:LNG Mini MBA in Project Development
LOCATION:London, UK
DESCRIPTION;ENCODING=QUOTED-PRINTABLE:\n\nCWC School for Energy has designed this interactive training programme 
 to enhance the key competencies and skills required across all aspects of c
 ommercial LNG project development.\nUsing a simplified economic model to si
 mulate the development of real LNG projects and understand the key value dr
 ivers, and a project development handbook, this programme ensures you can p
 ut theory into practice and return to work with enhanced skills and a usefu
 l toolkit. This is a tablet based programme and the tablet is included.... 
 Find out more\n\n
CONTACT:Courses 
DTSTAMP:20260421T143818Z
DTSTART;TZID=Asia/Kuala_Lumpur:20150728T080000
DTEND;TZID=Asia/Kuala_Lumpur:20150806T170000
SEQUENCE:0
TRANSP:OPAQUE
END:VEVENT
END:VCALENDAR