BEGIN:VCALENDAR
VERSION:2.0
PRODID:-//jEvents 2.0 for Joomla//EN
CALSCALE:GREGORIAN
METHOD:PUBLISH
BEGIN:VTIMEZONE
TZID:Asia/Kuala_Lumpur
BEGIN:STANDARD
DTSTART:20140726T080000
RDATE:20380119T111407
TZOFFSETFROM:+0800
TZOFFSETTO:+0800
TZNAME:Asia/Kuala_Lumpur +08
END:STANDARD
END:VTIMEZONE
BEGIN:VEVENT
UID:01206a5891921b01080f1451e7ec1f8f
CATEGORIES:Oil & Gas
SUMMARY:Gas & LNG Contracts & Negotiations
LOCATION:London, UK
DESCRIPTION;ENCODING=QUOTED-PRINTABLE:\n\n\n\n\nCWC School for Energy has designed this intensive course will ful
 ly prepare you to negotiate the best deal by understanding the complex proc
 esses and terms involved in Gas and LNG Contracts. You will return to work 
 with techniques and knowledge to minimise risk and draft robust contracts\n
 \n\nThe course is interactive and includes practical exercises, real life c
 ase studies and draft contracts to facilitate learning... Find out more\n\n
CONTACT:Courses 
DTSTAMP:20260421T130311Z
DTSTART;TZID=Asia/Kuala_Lumpur:20150727T080000
DTEND;TZID=Asia/Kuala_Lumpur:20150729T170000
SEQUENCE:0
TRANSP:OPAQUE
END:VEVENT
END:VCALENDAR