BEGIN:VCALENDAR
VERSION:2.0
PRODID:-//jEvents 2.0 for Joomla//EN
CALSCALE:GREGORIAN
METHOD:PUBLISH
BEGIN:VTIMEZONE
TZID:Asia/Kuala_Lumpur
BEGIN:STANDARD
DTSTART:20140726T080000
RDATE:20380119T111407
TZOFFSETFROM:+0800
TZOFFSETTO:+0800
TZNAME:Asia/Kuala_Lumpur +08
END:STANDARD
END:VTIMEZONE
BEGIN:VEVENT
UID:8be9874c0cc4f647a539ee3857abe13b
CATEGORIES:Oil & Gas
SUMMARY:World Fiscal Systems for Oil & Gas
LOCATION:Amsterdam, The Netherlands
DESCRIPTION;ENCODING=QUOTED-PRINTABLE:\n\n\n\n\nRun for over 35 years, this course provides participants with an 
 intimate knowledge of petroleum upstream fiscal systems including royalties
 , production sharing contracts, concessions, joint ventures and service agr
 eements. An in-depth assessment will be conducted on the administration of 
 fiscal systems as well as standalone vs. incremental analysis.Furthermore, 
 the course is interactive and will help you tounderstand how various econom
 ic factors can impact a fiscal system from both the government and corporat
 e points of view.... Find out more\n\n
CONTACT:Courses 
DTSTAMP:20260421T161728Z
DTSTART;TZID=Asia/Kuala_Lumpur:20150727T080000
DTEND;TZID=Asia/Kuala_Lumpur:20150730T170000
SEQUENCE:0
TRANSP:OPAQUE
END:VEVENT
END:VCALENDAR