BEGIN:VCALENDAR
VERSION:2.0
PRODID:-//jEvents 2.0 for Joomla//EN
CALSCALE:GREGORIAN
METHOD:PUBLISH
BEGIN:VTIMEZONE
TZID:Asia/Kuala_Lumpur
BEGIN:STANDARD
DTSTART:20140721T080000
RDATE:20380119T111407
TZOFFSETFROM:+0800
TZOFFSETTO:+0800
TZNAME:Asia/Kuala_Lumpur +08
END:STANDARD
END:VTIMEZONE
BEGIN:VEVENT
UID:31b5ed65ecdbd30b83e8ce8751b0794d
CATEGORIES:Oil & Gas
SUMMARY:World Fiscal Systems for Unconventional Oil & Gas
LOCATION:Amsterdam, The Netherlands
DESCRIPTION;ENCODING=QUOTED-PRINTABLE:\n\n\n\n\nAs unconventional oil and gas projects develop around the world, 
 energy companies are looking into the ways that they can become commerciall
 y viable. CWC School for Energy has designed this course aimed to provide p
 articipants with an intimate knowledge of fiscal systems of unconventional 
 oil and gas resources.. Find out more\n\n
CONTACT:Courses 
DTSTAMP:20260421T143254Z
DTSTART;TZID=Asia/Kuala_Lumpur:20150722T080000
DTEND;TZID=Asia/Kuala_Lumpur:20150724T170000
SEQUENCE:0
TRANSP:OPAQUE
END:VEVENT
END:VCALENDAR