BEGIN:VCALENDAR
VERSION:2.0
PRODID:-//jEvents 2.0 for Joomla//EN
CALSCALE:GREGORIAN
METHOD:PUBLISH
BEGIN:VTIMEZONE
TZID:Asia/Kuala_Lumpur
BEGIN:STANDARD
DTSTART:20140607T080000
RDATE:20380119T111407
TZOFFSETFROM:+0800
TZOFFSETTO:+0800
TZNAME:Asia/Kuala_Lumpur +08
END:STANDARD
END:VTIMEZONE
BEGIN:VEVENT
UID:3966408a05bb25b986930023e8afbd5d
CATEGORIES:Oil & Gas
SUMMARY:Accounting Procedures in Production Sharing Contracts
LOCATION:London, UK
DESCRIPTION;ENCODING=QUOTED-PRINTABLE:\n\n\n\n\nThis course will provide states and investors with a practical, h
 ands on understanding of the accounting procedures in Production Sharing Co
 ntracts. You will be brought fully up to speed with the key legal provision
 s within the contract, and how these impact on your day to day accounting r
 esponsibilities for petroleum operations throughout the lifespan of the pro
 ject.\nParticipants will gain clarity when dealing with cost recovery withi
 n the PSC and understand the differences with accounting for Joint Operatin
 g Agreements and financial reporting under IFRS.  You will also assess how 
 to deal with taxation within contracts, how this affects your projects and 
 potential disputes that can arise... Find out more\n\n
CONTACT:Courses 
DTSTAMP:20260421T162044Z
DTSTART;TZID=Asia/Kuala_Lumpur:20150608T080000
DTEND;TZID=Asia/Kuala_Lumpur:20150612T170000
SEQUENCE:0
TRANSP:OPAQUE
END:VEVENT
END:VCALENDAR