BEGIN:VCALENDAR
VERSION:2.0
PRODID:-//jEvents 2.0 for Joomla//EN
CALSCALE:GREGORIAN
METHOD:PUBLISH
BEGIN:VTIMEZONE
TZID:Asia/Kuala_Lumpur
BEGIN:STANDARD
DTSTART:20140607T080000
RDATE:20380119T111407
TZOFFSETFROM:+0800
TZOFFSETTO:+0800
TZNAME:Asia/Kuala_Lumpur +08
END:STANDARD
END:VTIMEZONE
BEGIN:VEVENT
UID:a286895f8d603493db38b6cbe2bf801e
CATEGORIES:Oil & Gas
SUMMARY:Negotiation in Oil & Gas 
LOCATION:Lagos, Nigeria
DESCRIPTION;ENCODING=QUOTED-PRINTABLE:\n\n\n\n\nCWC School for Energy has designed this course for individuals se
 eking to improve their ability and confidence when it comes to the process 
 of negotiation in the oil & gas industry. By utilising a step-by-step frame
 work, participants will learn how to structure their approach to negotiatio
 ns, deal with difficult situations, negotiate with different cultures, unde
 rstand breakthrough strategies and achieve results... Find out more\n\n
CONTACT:Courses 
DTSTAMP:20260421T143239Z
DTSTART;TZID=Asia/Kuala_Lumpur:20150608T080000
DTEND;TZID=Asia/Kuala_Lumpur:20150610T170000
SEQUENCE:0
TRANSP:OPAQUE
END:VEVENT
END:VCALENDAR