BEGIN:VCALENDAR
VERSION:2.0
PRODID:-//jEvents 2.0 for Joomla//EN
CALSCALE:GREGORIAN
METHOD:PUBLISH
BEGIN:VTIMEZONE
TZID:Asia/Kuala_Lumpur
BEGIN:STANDARD
DTSTART:20130504T000000
RDATE:20380119T111407
TZOFFSETFROM:+0800
TZOFFSETTO:+0800
TZNAME:Asia/Kuala_Lumpur +08
END:STANDARD
END:VTIMEZONE
BEGIN:VEVENT
UID:083564a96e8f596dbdc048caa82808ca
CATEGORIES:Oil & Gas
SUMMARY:OTC 2014
LOCATION: Houston, Texas USA
DESCRIPTION;ENCODING=QUOTED-PRINTABLE:             Offshore Technology Conference USA\n\nOTC Founded in 1969, the
  Offshore Technology Conference organizes the world’s foremost events for t
 he development of offshore resources in the fields of drilling, exploration
 , production, and environmental protection. OTC is held annually at Reliant
  Center in Houston.OTC ranks among the largest 200 trade shows held annuall
 y in the United States and is among the 10 largest meetings in terms of att
 endance. Attendance consistently exceeds 80,000, and more than 2,700 compan
 ies participate in the exhibition. OTC includes attendees from around the g
 lobe, with more than 120 countries represented at recent conferences.\n
DTSTAMP:20260421T202737Z
DTSTART;TZID=Asia/Kuala_Lumpur;VALUE=DATE:20140505
DTEND;TZID=Asia/Kuala_Lumpur;VALUE=DATE:20140509
SEQUENCE:0
TRANSP:OPAQUE
END:VEVENT
END:VCALENDAR