BEGIN:VCALENDAR
VERSION:2.0
PRODID:-//jEvents 2.0 for Joomla//EN
CALSCALE:GREGORIAN
METHOD:PUBLISH
BEGIN:VTIMEZONE
TZID:Asia/Kuala_Lumpur
BEGIN:STANDARD
DTSTART:20140531T080000
RDATE:20380119T111407
TZOFFSETFROM:+0800
TZOFFSETTO:+0800
TZNAME:Asia/Kuala_Lumpur +08
END:STANDARD
END:VTIMEZONE
BEGIN:VEVENT
UID:0746db5b54e52c61c1e209593cf94ddc
CATEGORIES:Oil & Gas
SUMMARY:Oil & Gas Mini MBA from 1 to12 June 2015
LOCATION:London, UK
DESCRIPTION;ENCODING=QUOTED-PRINTABLE:\n\n\n\n\nThis 10-day course will provide you with a strong business founda
 tion and enable you to function more effectively and efficiently in today’s
  competitive oil and gas business environment. CWC School for Energy offers
  you this intensive training opportunity for you to develop your knowledge 
 of the principle and techniques of strategic management within the unique c
 ontext of the oil and gas sector. The focus is on providing you with maximu
 m take-home value of business decision making process, skills and practices
 .\nUsing electronic tablets, this programme ensures you put theory to pract
 ice and you return to work with the skills and a tool kit to utilise in you
 r projects... Find out more\n\n
CONTACT:Courses 
DTSTAMP:20260421T143150Z
DTSTART;TZID=Asia/Kuala_Lumpur:20150601T080000
DTEND;TZID=Asia/Kuala_Lumpur:20150612T170000
SEQUENCE:0
TRANSP:OPAQUE
END:VEVENT
END:VCALENDAR