BEGIN:VCALENDAR
VERSION:2.0
PRODID:-//jEvents 2.0 for Joomla//EN
CALSCALE:GREGORIAN
METHOD:PUBLISH
BEGIN:VTIMEZONE
TZID:Asia/Kuala_Lumpur
BEGIN:STANDARD
DTSTART:20140610T080000
RDATE:20380119T111407
TZOFFSETFROM:+0800
TZOFFSETTO:+0800
TZNAME:Asia/Kuala_Lumpur +08
END:STANDARD
END:VTIMEZONE
BEGIN:VEVENT
UID:0ec867eaf46a29db92d314bdcd44f364
CATEGORIES:Oil & Gas
SUMMARY:Offshore E&P Summit Myanmar 2015 
LOCATION:Yangon, Myanma
DESCRIPTION;ENCODING=QUOTED-PRINTABLE:
DTSTAMP:20260421T144109Z
DTSTART;TZID=Asia/Kuala_Lumpur:20150611T080000
DTEND;TZID=Asia/Kuala_Lumpur:20150612T170000
SEQUENCE:0
TRANSP:OPAQUE
END:VEVENT
END:VCALENDAR