BEGIN:VCALENDAR
VERSION:2.0
PRODID:-//jEvents 2.0 for Joomla//EN
CALSCALE:GREGORIAN
METHOD:PUBLISH
BEGIN:VTIMEZONE
TZID:Asia/Kuala_Lumpur
BEGIN:STANDARD
DTSTART:20141026T080000
RDATE:20380119T111407
TZOFFSETFROM:+0800
TZOFFSETTO:+0800
TZNAME:Asia/Kuala_Lumpur +08
END:STANDARD
END:VTIMEZONE
BEGIN:VEVENT
UID:73cc598f553ee6ee7ee5a8bf4b353ff8
CATEGORIES:Oil & Gas
SUMMARY:Gastech 2015
LOCATION:Singapore
DESCRIPTION;ENCODING=QUOTED-PRINTABLE:\n\nGastech is now in its 28th edition.  Founded in London in 1972 it conti
 nues to go from strength to strength and our last edition in March 2014 in 
 Korea was our biggest and best event to date.\nGastech attracts over 20,000
  international visitors, 2000 conference delegates, 500+ international exhi
 bitors, 250 C-level VIPs and over 150 of the best international students an
 d young engineers involved in the gas industry.\nThe event will last for fo
 ur days (27 – 30 October 2015) and will be held in association with Singapo
 re International Energy Week (SIEW).\nFor more information please visit the
  website www.gastechsingapore.com.\n
CONTACT:FREE MAP DISTRIBUTION
DTSTAMP:20260421T143308Z
DTSTART;TZID=Asia/Kuala_Lumpur:20151027T080000
DTEND;TZID=Asia/Kuala_Lumpur:20151030T170000
SEQUENCE:0
TRANSP:OPAQUE
END:VEVENT
END:VCALENDAR