BEGIN:VCALENDAR
VERSION:2.0
PRODID:-//jEvents 2.0 for Joomla//EN
CALSCALE:GREGORIAN
METHOD:PUBLISH
BEGIN:VTIMEZONE
TZID:Asia/Kuala_Lumpur
BEGIN:STANDARD
DTSTART:20150411T080000
RDATE:20380119T111407
TZOFFSETFROM:+0800
TZOFFSETTO:+0800
TZNAME:Asia/Kuala_Lumpur +08
END:STANDARD
END:VTIMEZONE
BEGIN:VEVENT
UID:f0f2319b542da6ce601a1d75be2232ce
CATEGORIES:Oil & Gas
SUMMARY:18th International Conference & Exhibition on Liquefied Natural Gas (LNG 18)
LOCATION:Perth, Western Australia
DESCRIPTION;ENCODING=QUOTED-PRINTABLE:\n\n\nKey facts and figures about LNG 18 are:\nThe overall event theme is “
 Redrawing the Global Map of Gas” reflecting the rapidly changing and challe
 nging LNG industryOver 5,000 participants are expected to attend from aroun
 d the worldOver 250 exhibitors from more than 80 countries will be showcase
 dThe pre-eminent 4-day conference program will include plenary sessions, wo
 rkshops and poster sessionsLNG 18 participants will have ample networking o
 pportunities during the official social program and at corporate eventsExte
 nsive national and international media presence before, during and after LN
 G 18\n\n \n\n\n  find out more..\n
CONTACT:FREE MAP DISTRIBUTION
DTSTAMP:20260421T143448Z
DTSTART;TZID=Asia/Kuala_Lumpur:20160411T080000
DTEND;TZID=Asia/Kuala_Lumpur:20160415T170000
SEQUENCE:0
TRANSP:OPAQUE
END:VEVENT
END:VCALENDAR