BEGIN:VCALENDAR
VERSION:2.0
PRODID:-//jEvents 2.0 for Joomla//EN
CALSCALE:GREGORIAN
METHOD:PUBLISH
BEGIN:VTIMEZONE
TZID:Asia/Kuala_Lumpur
BEGIN:STANDARD
DTSTART:20151114T080000
RDATE:20380119T111407
TZOFFSETFROM:+0800
TZOFFSETTO:+0800
TZNAME:Asia/Kuala_Lumpur +08
END:STANDARD
END:VTIMEZONE
BEGIN:VEVENT
UID:6b7e8b8fa4d6eedf580d475a0fc8fc1b
CATEGORIES:Oil & Gas
SUMMARY:10th International Petroleum Technology Conference (IPTC)
LOCATION:Bangkok Convention Centre at CentralWorld Bangkok, Thailand
DESCRIPTION;ENCODING=QUOTED-PRINTABLE:
DTSTAMP:20260421T113031Z
DTSTART;TZID=Asia/Kuala_Lumpur:20161114T080000
DTEND;TZID=Asia/Kuala_Lumpur:20161116T170000
SEQUENCE:0
TRANSP:OPAQUE
END:VEVENT
END:VCALENDAR