BEGIN:VCALENDAR
VERSION:2.0
PRODID:-//jEvents 2.0 for Joomla//EN
CALSCALE:GREGORIAN
METHOD:PUBLISH
BEGIN:VTIMEZONE
TZID:Asia/Kuala_Lumpur
BEGIN:STANDARD
DTSTART:20151129T080000
RDATE:20380119T111407
TZOFFSETFROM:+0800
TZOFFSETTO:+0800
TZNAME:Asia/Kuala_Lumpur +08
END:STANDARD
END:VTIMEZONE
BEGIN:VEVENT
UID:eb01433c35b49c929371a32605081d1e
CATEGORIES:Oil & Gas
SUMMARY:OSEA 2016
LOCATION:Singapore
DESCRIPTION;ENCODING=QUOTED-PRINTABLE:\n\nTaking place every second year, OSEA is Asia’s best known Oil & Gas eve
 nt. The 21st edition is from 29 November – 2 December 2016 in Marina Bay Sa
 nds, Singapore. With a comprehensive showcase of oil & gas exploration and 
 production innovations, OSEA continuously attracts international participat
 ion, further enhancing its reputation as THE ideal platform to meet new buy
 ers and partners. Key focus areas at OSEA2016 include Digital Oil Field, En
 gineering, Construction, Maintenance & Repair, Geosciences, Housing, Health
 , Safety & Environment, Marine Equipment & Services, Process Automation, In
 strumentation & Control Technology and Transportation, Pipelines & Storage.
  Please visit www.osea-asia.com for more information.\n
CONTACT:FREE MAP DISTRIBUTION
DTSTAMP:20260421T112927Z
DTSTART;TZID=Asia/Kuala_Lumpur:20161129T080000
DTEND;TZID=Asia/Kuala_Lumpur:20161202T170000
SEQUENCE:0
TRANSP:OPAQUE
END:VEVENT
END:VCALENDAR