BEGIN:VCALENDAR
VERSION:2.0
PRODID:-//jEvents 2.0 for Joomla//EN
CALSCALE:GREGORIAN
METHOD:PUBLISH
BEGIN:VTIMEZONE
TZID:Asia/Kuala_Lumpur
BEGIN:STANDARD
DTSTART:20150928T080000
RDATE:20380119T111407
TZOFFSETFROM:+0800
TZOFFSETTO:+0800
TZNAME:Asia/Kuala_Lumpur +08
END:STANDARD
END:VTIMEZONE
BEGIN:VEVENT
UID:3f52f167fcdb08c5216581ad4a39982a
CATEGORIES:Oil & Gas
SUMMARY:MOGSEC 2016
LOCATION:KLCC, Malaysia
DESCRIPTION;ENCODING=QUOTED-PRINTABLE:\n\n\n
CONTACT:FREE MAP DISTRIBUTION
DTSTAMP:20260421T113308Z
DTSTART;TZID=Asia/Kuala_Lumpur:20160928T080000
DTEND;TZID=Asia/Kuala_Lumpur:20160930T170000
SEQUENCE:0
TRANSP:OPAQUE
END:VEVENT
END:VCALENDAR