BEGIN:VCALENDAR
VERSION:2.0
PRODID:-//jEvents 2.0 for Joomla//EN
CALSCALE:GREGORIAN
METHOD:PUBLISH
BEGIN:VTIMEZONE
TZID:Asia/Kuala_Lumpur
BEGIN:STANDARD
DTSTART:20130426T000000
RDATE:20380119T111407
TZOFFSETFROM:+0800
TZOFFSETTO:+0800
TZNAME:Asia/Kuala_Lumpur +08
END:STANDARD
END:VTIMEZONE
BEGIN:VEVENT
UID:75f79854661ab5273871f235613f31c6
CATEGORIES:Oil & Gas
SUMMARY:East Africa Oil & Gas Expo 2014
LOCATION:KICC, Nairobi
DESCRIPTION;ENCODING=QUOTED-PRINTABLE:                  OIL & GAS AFRICA 2014\n\n  \n\n\nThe 3rd Oil & Gas Africa
  – Int’l Trade Exhibition, April 27th to 29th April 2014, is a hub for key 
 players in the oil and gas community, attracting leading oil, gas and petro
 leum companies from around the world. This regional trade event serves the 
 resource-rich east African region and city of Nairobi; Kenya’s major centre
  of oil and gas activity for many of the leading operators in the country. 
 Kenya has attracted oil & gas companies not only because of its ports and s
 trategic location but also because the government is keen not to be left ou
 t of the exploration.\n
X-EXTRAINFO:ORGANIZER: EXPOGROUP
DTSTAMP:20260421T143824Z
DTSTART;TZID=Asia/Kuala_Lumpur;VALUE=DATE:20140427
DTEND;TZID=Asia/Kuala_Lumpur;VALUE=DATE:20140430
SEQUENCE:0
TRANSP:OPAQUE
END:VEVENT
END:VCALENDAR