BEGIN:VCALENDAR
VERSION:2.0
PRODID:-//jEvents 2.0 for Joomla//EN
CALSCALE:GREGORIAN
METHOD:PUBLISH
BEGIN:VTIMEZONE
TZID:Asia/Kuala_Lumpur
BEGIN:STANDARD
DTSTART:20150321T080000
RDATE:20380119T111407
TZOFFSETFROM:+0800
TZOFFSETTO:+0800
TZNAME:Asia/Kuala_Lumpur +08
END:STANDARD
END:VTIMEZONE
BEGIN:VEVENT
UID:74cb815916626e8dd544e9fa6e53183c
CATEGORIES:Oil & Gas
SUMMARY:OGWA2016
LOCATION:Muscat, Oman
DESCRIPTION;ENCODING=QUOTED-PRINTABLE:
DTSTAMP:20260421T130013Z
DTSTART;TZID=Asia/Kuala_Lumpur:20160321T080000
DTEND;TZID=Asia/Kuala_Lumpur:20160323T170000
SEQUENCE:0
TRANSP:OPAQUE
END:VEVENT
END:VCALENDAR