BEGIN:VCALENDAR
VERSION:2.0
PRODID:-//jEvents 2.0 for Joomla//EN
CALSCALE:GREGORIAN
METHOD:PUBLISH
BEGIN:VTIMEZONE
TZID:Asia/Kuala_Lumpur
BEGIN:STANDARD
DTSTART:20141116T080000
RDATE:20380119T111407
TZOFFSETFROM:+0800
TZOFFSETTO:+0800
TZNAME:Asia/Kuala_Lumpur +08
END:STANDARD
END:VTIMEZONE
BEGIN:VEVENT
UID:747041d6cea37e5309913ed75326e0f9
CATEGORIES:Oil & Gas
SUMMARY:Turkmenistan International Oil & Gas Conference
LOCATION:Ashgabat, Turkmenistan
DESCRIPTION;ENCODING=QUOTED-PRINTABLE:
DTSTAMP:20260421T125927Z
DTSTART;TZID=Asia/Kuala_Lumpur:20151117T080000
DTEND;TZID=Asia/Kuala_Lumpur:20151119T170000
SEQUENCE:0
TRANSP:OPAQUE
END:VEVENT
END:VCALENDAR