BEGIN:VCALENDAR
VERSION:2.0
PRODID:-//jEvents 2.0 for Joomla//EN
CALSCALE:GREGORIAN
METHOD:PUBLISH
BEGIN:VTIMEZONE
TZID:Asia/Kuala_Lumpur
BEGIN:STANDARD
DTSTART:20141108T080000
RDATE:20380119T111407
TZOFFSETFROM:+0800
TZOFFSETTO:+0800
TZNAME:Asia/Kuala_Lumpur +08
END:STANDARD
END:VTIMEZONE
BEGIN:VEVENT
UID:8a46f197cbb5066c32463fbcdb3557de
CATEGORIES:Oil & Gas
SUMMARY:ADIPEC 2015
LOCATION:Abu Dhabi, UAE
DESCRIPTION;ENCODING=QUOTED-PRINTABLE:\n\nWELCOME TO ADIPEC 2015\nEnabling the Advancement Of The World’s Oil & G
 as Industry \nThe Abu Dhabi International Petroleum Exhibition and Conferen
 ce (ADIPEC) is the world’s new meeting point for Oil & Gas professionals. T
 he 30th Anniversary edition closed on the 13th November 2014 having attract
 ed 1,868 exhibitors and 76,240 attendees from 112 countries during the 4 da
 ys of the event.\nADIPEC provides an unrivalled global platform for Oil & G
 as professionals to do business. The world-renowned conference programme wi
 thin ADIPEC further educates and provides knowledge transfer and unparallel
 ed network working opportunities.\nLocated in the capital city of the Unite
 d Arab Emirates, Abu Dhabi acts as a natural cross-roads between the east a
 nd the west and is fast becoming one of the world’s most influential energy
  hubs for the 21st century.\nADIPEC is supported by industry through its un
 ique Executive Committee that convenes to shape the conference content of t
 he event and is supported by many of the world’s leading National Oil Compa
 nies, International Oil Companies and key service providers. for more infor
 mtation please check out www.adipec.com/en\n
CONTACT:FREE MAP DISTRIBUTION
DTSTAMP:20260421T161936Z
DTSTART;TZID=Asia/Kuala_Lumpur:20151109T080000
DTEND;TZID=Asia/Kuala_Lumpur:20151112T170000
SEQUENCE:0
TRANSP:OPAQUE
END:VEVENT
END:VCALENDAR