BEGIN:VCALENDAR
VERSION:2.0
PRODID:-//jEvents 2.0 for Joomla//EN
CALSCALE:GREGORIAN
METHOD:PUBLISH
BEGIN:VTIMEZONE
TZID:Asia/Kuala_Lumpur
BEGIN:STANDARD
DTSTART:20141014T080000
RDATE:20380119T111407
TZOFFSETFROM:+0800
TZOFFSETTO:+0800
TZNAME:Asia/Kuala_Lumpur +08
END:STANDARD
END:VTIMEZONE
BEGIN:VEVENT
UID:6139e778d48d4615fda2b9f1ba045e9d
CATEGORIES:Oil & Gas
SUMMARY:Oil & Gas Myanmar 2015
LOCATION:MYANMAR EVENT PARK | YANGON
DESCRIPTION;ENCODING=QUOTED-PRINTABLE:
DTSTAMP:20260421T130313Z
DTSTART;TZID=Asia/Kuala_Lumpur:20151015T080000
DTEND;TZID=Asia/Kuala_Lumpur:20151017T170000
SEQUENCE:0
TRANSP:OPAQUE
END:VEVENT
END:VCALENDAR