BEGIN:VCALENDAR
VERSION:2.0
PRODID:-//jEvents 2.0 for Joomla//EN
CALSCALE:GREGORIAN
METHOD:PUBLISH
BEGIN:VTIMEZONE
TZID:Asia/Kuala_Lumpur
BEGIN:STANDARD
DTSTART:20140212T080000
RDATE:20380119T111407
TZOFFSETFROM:+0800
TZOFFSETTO:+0800
TZNAME:Asia/Kuala_Lumpur +08
END:STANDARD
END:VTIMEZONE
BEGIN:VEVENT
UID:cbd66eaf56f97e42e7b6f5d90eb3f096
CATEGORIES:Oil & Gas
SUMMARY:Offshore Energy 2015
LOCATION:Amsterdam
DESCRIPTION;ENCODING=QUOTED-PRINTABLE:
DTSTAMP:20260421T155029Z
DTSTART;TZID=Asia/Kuala_Lumpur:20150213T080000
DTEND;TZID=Asia/Kuala_Lumpur:20150214T170000
SEQUENCE:0
TRANSP:OPAQUE
END:VEVENT
END:VCALENDAR