BEGIN:VCALENDAR
VERSION:2.0
PRODID:-//jEvents 2.0 for Joomla//EN
CALSCALE:GREGORIAN
METHOD:PUBLISH
BEGIN:VTIMEZONE
TZID:Asia/Kuala_Lumpur
BEGIN:STANDARD
DTSTART:20130423T000000
RDATE:20380119T111407
TZOFFSETFROM:+0800
TZOFFSETTO:+0800
TZNAME:Asia/Kuala_Lumpur +08
END:STANDARD
END:VTIMEZONE
BEGIN:VEVENT
UID:c8857e14ccfec79949e309b68852b94b
CATEGORIES:Oil & Gas
SUMMARY:9th Deepwater China Convention 2014
LOCATION:Shenzhen, China
DESCRIPTION;ENCODING=QUOTED-PRINTABLE:                  The 9th Deepwater China Convention 2014 \n\n  \n\n\nthe p
 remier deepwater congress in China, will be staged in Shenzhen on May 29-20
 , 2014. The organizer China Decision Makers Consultancy (CDMC) will offer a
  peer-selected technical programme which focuses on the full spectrum of th
 e future outlook on Asia Pacific deepwater market, partnering opportunities
 , updated projects and latest development on offshore E&P and subsea techno
 logy.\n
X-EXTRAINFO:ORGANIZER: CDMC
DTSTAMP:20260421T143818Z
DTSTART;TZID=Asia/Kuala_Lumpur;VALUE=DATE:20140424
DTEND;TZID=Asia/Kuala_Lumpur;VALUE=DATE:20140426
SEQUENCE:0
TRANSP:OPAQUE
END:VEVENT
END:VCALENDAR