BEGIN:VCALENDAR
VERSION:2.0
PRODID:-//jEvents 2.0 for Joomla//EN
CALSCALE:GREGORIAN
METHOD:PUBLISH
BEGIN:VTIMEZONE
TZID:Asia/Kuala_Lumpur
BEGIN:STANDARD
DTSTART:20141005T080000
RDATE:20380119T111407
TZOFFSETFROM:+0800
TZOFFSETTO:+0800
TZNAME:Asia/Kuala_Lumpur +08
END:STANDARD
END:VTIMEZONE
BEGIN:VEVENT
UID:2b608a4b335c03944dfda516822db9ec
CATEGORIES:Oil & Gas
SUMMARY:Kazakhstan International Oil & Gas Exhibition
LOCATION:Almaty, Kazakhstan
DESCRIPTION;ENCODING=QUOTED-PRINTABLE:
DTSTAMP:20260421T130440Z
DTSTART;TZID=Asia/Kuala_Lumpur:20151006T080000
DTEND;TZID=Asia/Kuala_Lumpur:20151009T170000
SEQUENCE:0
TRANSP:OPAQUE
END:VEVENT
END:VCALENDAR