BEGIN:VCALENDAR
VERSION:2.0
PRODID:-//jEvents 2.0 for Joomla//EN
CALSCALE:GREGORIAN
METHOD:PUBLISH
BEGIN:VTIMEZONE
TZID:Asia/Kuala_Lumpur
BEGIN:STANDARD
DTSTART:20140909T080000
RDATE:20380119T111407
TZOFFSETFROM:+0800
TZOFFSETTO:+0800
TZNAME:Asia/Kuala_Lumpur +08
END:STANDARD
END:VTIMEZONE
BEGIN:VEVENT
UID:2f967b82c3a81ba5175bb5ce9ad45ca4
CATEGORIES:Maritime 
SUMMARY:Sotheast Asia Offshore Summit Myanmar 2015 ( SEAOS Myanmar 2015 )
LOCATION:Sule Shangri-La, Yangon, Myanmar
DESCRIPTION;ENCODING=QUOTED-PRINTABLE:
DTSTAMP:20260421T130439Z
DTSTART;TZID=Asia/Kuala_Lumpur:20150910T080000
DTEND;TZID=Asia/Kuala_Lumpur:20150912T170000
SEQUENCE:0
TRANSP:OPAQUE
END:VEVENT
END:VCALENDAR