BEGIN:VCALENDAR
VERSION:2.0
PRODID:-//jEvents 2.0 for Joomla//EN
CALSCALE:GREGORIAN
METHOD:PUBLISH
BEGIN:VTIMEZONE
TZID:Asia/Kuala_Lumpur
BEGIN:STANDARD
DTSTART:20140816T080000
RDATE:20380119T111407
TZOFFSETFROM:+0800
TZOFFSETTO:+0800
TZNAME:Asia/Kuala_Lumpur +08
END:STANDARD
END:VTIMEZONE
BEGIN:VEVENT
UID:475e030e3d42d171ef23522fb5d8fac1
CATEGORIES:Oil & Gas
SUMMARY:ONS 2015
LOCATION:Norway
DESCRIPTION;ENCODING=QUOTED-PRINTABLE:
DTSTAMP:20260421T143342Z
DTSTART;TZID=Asia/Kuala_Lumpur:20150817T080000
DTEND;TZID=Asia/Kuala_Lumpur:20150818T170000
SEQUENCE:0
TRANSP:OPAQUE
END:VEVENT
END:VCALENDAR