BEGIN:VCALENDAR
VERSION:2.0
PRODID:-//jEvents 2.0 for Joomla//EN
CALSCALE:GREGORIAN
METHOD:PUBLISH
BEGIN:VTIMEZONE
TZID:Asia/Kuala_Lumpur
BEGIN:STANDARD
DTSTART:20140706T080000
RDATE:20380119T111407
TZOFFSETFROM:+0800
TZOFFSETTO:+0800
TZNAME:Asia/Kuala_Lumpur +08
END:STANDARD
END:VTIMEZONE
BEGIN:VEVENT
UID:5c22b0c0652e0d974cc64b09f2009df9
CATEGORIES:Oil & Gas
SUMMARY:MTA VIETNAM2015
LOCATION:Saigon Exhibition and Convention Center (SECC), 799 Nguyen Van Linh Parkway
 , District 7, Ho Chi Minh City, Vietnam
DESCRIPTION;ENCODING=QUOTED-PRINTABLE:
DTSTAMP:20260421T161855Z
DTSTART;TZID=Asia/Kuala_Lumpur:20150707T080000
DTEND;TZID=Asia/Kuala_Lumpur:20150710T170000
SEQUENCE:0
TRANSP:OPAQUE
END:VEVENT
END:VCALENDAR