BEGIN:VCALENDAR
VERSION:2.0
PRODID:-//jEvents 2.0 for Joomla//EN
CALSCALE:GREGORIAN
METHOD:PUBLISH
BEGIN:VTIMEZONE
TZID:Asia/Kuala_Lumpur
BEGIN:STANDARD
DTSTART:20140622T080000
RDATE:20380119T111407
TZOFFSETFROM:+0800
TZOFFSETTO:+0800
TZNAME:Asia/Kuala_Lumpur +08
END:STANDARD
END:VTIMEZONE
BEGIN:VEVENT
UID:4e39b45f37a7594f79327471158c4152
CATEGORIES:Oil & Gas
SUMMARY:FLNG Asia 2015 Conference
LOCATION:One Farrer Hotel & Spa, Singapore
DESCRIPTION;ENCODING=QUOTED-PRINTABLE:\n\nThe FLNG World Congress 2015 is the premium international FLNG event, b
 ringing together the entirevalue chain of FLNG stakeholders from project de
 velopers and owners to EPCcompanies, shipyards, banks and technology provid
 ers. for more information please visit www.flngworldcongress.com\n
CONTACT:FREE MAP DISTRIBUTION
DTSTAMP:20260421T154729Z
DTSTART;TZID=Asia/Kuala_Lumpur:20150623T080000
DTEND;TZID=Asia/Kuala_Lumpur:20150624T170000
SEQUENCE:0
TRANSP:OPAQUE
END:VEVENT
END:VCALENDAR