BEGIN:VCALENDAR
VERSION:2.0
PRODID:-//jEvents 2.0 for Joomla//EN
CALSCALE:GREGORIAN
METHOD:PUBLISH
BEGIN:VTIMEZONE
TZID:Asia/Kuala_Lumpur
BEGIN:STANDARD
DTSTART:20140622T080000
RDATE:20380119T111407
TZOFFSETFROM:+0800
TZOFFSETTO:+0800
TZNAME:Asia/Kuala_Lumpur +08
END:STANDARD
END:VTIMEZONE
BEGIN:VEVENT
UID:38bd5ad0298fec4b26385a2cd9af358d
CATEGORIES:Oil & Gas
SUMMARY:Moscow International Oil & Gas Exhibition
LOCATION:Moscow, Russia
DESCRIPTION;ENCODING=QUOTED-PRINTABLE:\n\nKey statistics of MIOGE 2013:\n- Exhibition space: 50,169 sqm\n- Exhibi
 tors: 926 from 37 countries\n- Visitors: 22,412\n- National Groups: Germany
 , Italy, Canada, China, Finland, Norway, USA, France, UAE and the Czech    
 Republic, \nKey Exhibition Sections:\n-  Oil & Gas exploration and producti
 on\n-  Transportation and storage of oil, oil products and gas\n-  Refining
  and processing/ petro-chemistry and gas chemistry\n-  Automation/ measurin
 g and control instrumentation\n-  Industrial, environmental and fire safety
 / labour safety\n-  Geology and geophysics     \nFor more information, plea
 se contact : \nColin Ho\nProject Manager\nITE Asia Pacific Sdn Bhd\nTel:   
        +603 7842 9863 (ext. 8186)\nFax:         +603 7842 7863\nMobile:   +
 6012 6122 800/ +6016 967 2075\nE-mail:    This email address is being prote
 cted from spambots. You need JavaScript enabled to view it.
 //
 \nWeb :  h
 ttp://www.mioge.com  \n\n\n \n
CONTACT:FREE MAP DISTRIBUTION
DTSTAMP:20260421T130024Z
DTSTART;TZID=Asia/Kuala_Lumpur:20150623T080000
DTEND;TZID=Asia/Kuala_Lumpur:20150626T170000
SEQUENCE:0
TRANSP:OPAQUE
END:VEVENT
END:VCALENDAR