BEGIN:VCALENDAR
VERSION:2.0
PRODID:-//jEvents 2.0 for Joomla//EN
CALSCALE:GREGORIAN
METHOD:PUBLISH
BEGIN:VTIMEZONE
TZID:Asia/Kuala_Lumpur
BEGIN:STANDARD
DTSTART:20130309T000000
RDATE:20380119T111407
TZOFFSETFROM:+0800
TZOFFSETTO:+0800
TZNAME:Asia/Kuala_Lumpur +08
END:STANDARD
END:VTIMEZONE
BEGIN:VEVENT
UID:f59c711dd57aa83c94aca20348b72817
CATEGORIES:Oil & Gas
SUMMARY:Project Iraq - Baghdad 2014
LOCATION:Baghdad International Fair Ground
DESCRIPTION;ENCODING=QUOTED-PRINTABLE:                    Project Iraq - Baghdad 2014\n\n  \n\n\nUnstoppable Grow
 th Opportunities\nCapitalizing on an established reputation in Erbil as Ira
 q's largest exhibition of its kind, Project Iraq joins forces with Real Est
 ate Iraq to extend their ongoing success to Baghdad, expanding beyond regio
 ns to match the remarkable growth of the construction and real estate secto
 rs in Iraq.\n
X-EXTRAINFO:ORGANIZER: IFP Group
DTSTAMP:20260421T143819Z
DTSTART;TZID=Asia/Kuala_Lumpur;VALUE=DATE:20140310
DTEND;TZID=Asia/Kuala_Lumpur;VALUE=DATE:20140314
SEQUENCE:0
TRANSP:OPAQUE
END:VEVENT
END:VCALENDAR