BEGIN:VCALENDAR
VERSION:2.0
PRODID:-//jEvents 2.0 for Joomla//EN
CALSCALE:GREGORIAN
METHOD:PUBLISH
BEGIN:VTIMEZONE
TZID:Asia/Kuala_Lumpur
BEGIN:STANDARD
DTSTART:20140601T080000
RDATE:20380119T111407
TZOFFSETFROM:+0800
TZOFFSETTO:+0800
TZNAME:Asia/Kuala_Lumpur +08
END:STANDARD
END:VTIMEZONE
BEGIN:VEVENT
UID:a607644636bceb0f1bb76db3293a6e9d
CATEGORIES:Oil & Gas
SUMMARY:Caspian Oil & Gas Exhibition
LOCATION:Baku, Azerbaijan
DESCRIPTION;ENCODING=QUOTED-PRINTABLE:
DTSTAMP:20260421T130441Z
DTSTART;TZID=Asia/Kuala_Lumpur:20150602T080000
DTEND;TZID=Asia/Kuala_Lumpur:20150605T170000
SEQUENCE:0
TRANSP:OPAQUE
END:VEVENT
END:VCALENDAR