BEGIN:VCALENDAR
VERSION:2.0
PRODID:-//jEvents 2.0 for Joomla//EN
CALSCALE:GREGORIAN
METHOD:PUBLISH
BEGIN:VTIMEZONE
TZID:Asia/Kuala_Lumpur
BEGIN:STANDARD
DTSTART:20140531T080000
RDATE:20380119T111407
TZOFFSETFROM:+0800
TZOFFSETTO:+0800
TZNAME:Asia/Kuala_Lumpur +08
END:STANDARD
END:VTIMEZONE
BEGIN:VEVENT
UID:8b78b6eab01a18752a6471bd2cfb34eb
CATEGORIES:Oil & Gas
SUMMARY:World Gas Conference (WGC 2015)
LOCATION:Paris, France
DESCRIPTION;ENCODING=QUOTED-PRINTABLE:
DTSTAMP:20260421T130256Z
DTSTART;TZID=Asia/Kuala_Lumpur:20150601T080000
DTEND;TZID=Asia/Kuala_Lumpur:20150605T170000
SEQUENCE:0
TRANSP:OPAQUE
END:VEVENT
END:VCALENDAR