BEGIN:VCALENDAR
VERSION:2.0
PRODID:-//jEvents 2.0 for Joomla//EN
CALSCALE:GREGORIAN
METHOD:PUBLISH
BEGIN:VTIMEZONE
TZID:Asia/Kuala_Lumpur
BEGIN:STANDARD
DTSTART:20140518T080000
RDATE:20380119T111407
TZOFFSETFROM:+0800
TZOFFSETTO:+0800
TZNAME:Asia/Kuala_Lumpur +08
END:STANDARD
END:VTIMEZONE
BEGIN:VEVENT
UID:c4b0b68edd0f7a2c97d3c795f2efc07a
CATEGORIES:Oil & Gas
SUMMARY:Turkmenistan Gas Congress
LOCATION:Turkmenbashi, Turkmenistan
DESCRIPTION;ENCODING=QUOTED-PRINTABLE:
DTSTAMP:20260421T130443Z
DTSTART;TZID=Asia/Kuala_Lumpur:20150519T080000
DTEND;TZID=Asia/Kuala_Lumpur:20150521T170000
SEQUENCE:0
TRANSP:OPAQUE
END:VEVENT
END:VCALENDAR