BEGIN:VCALENDAR
VERSION:2.0
PRODID:-//jEvents 2.0 for Joomla//EN
CALSCALE:GREGORIAN
METHOD:PUBLISH
BEGIN:VTIMEZONE
TZID:Asia/Kuala_Lumpur
BEGIN:STANDARD
DTSTART:20140518T080000
RDATE:20380119T111407
TZOFFSETFROM:+0800
TZOFFSETTO:+0800
TZNAME:Asia/Kuala_Lumpur +08
END:STANDARD
END:VTIMEZONE
BEGIN:VEVENT
UID:c487117b992080dac897fe67ee0a882e
CATEGORIES:Oil & Gas
SUMMARY:Myanmar Oil & Gas
LOCATION:Sule Shangri-La Hotel. Yangon, Myanmar
DESCRIPTION;ENCODING=QUOTED-PRINTABLE:\n\nMyanmar Oil & Gas Week will take place on 19 - 20 May 2015 at the Sule 
 Shangri-La Hotel (formerly known as Traders Hotel) in Yangon will cover the
  latest challenges for developing an oil and gas industry within a newly re
 formed economic and social environment.\nKey topics include: overcoming cha
 llenges for downstream and upstream operators; uncovering the real potentia
 l of domestic exploration and production; infrastructure developments; dome
 stic obligation requirements; understanding the capabilities of the domesti
 c workforce; engaging with local communities, plus much more.Technical work
 shops in deepwater exploration and corporate briefings for ‘doing business 
 in Myanmar’ are also included in the event schedule, to ensure potential in
 vestors gain a holistic overview of this exciting new market.\nJoin the Mya
 nmar Oil & Gas Conference & Exhibition to capture your market share in this
  fast emerging country!\n\n\nhttp://www.myanmar-oilgas.com/Home.aspx\n
CONTACT:FREE MAP DISTRIBUTION
DTSTAMP:20260421T143722Z
DTSTART;TZID=Asia/Kuala_Lumpur:20150519T080000
DTEND;TZID=Asia/Kuala_Lumpur:20150520T170000
SEQUENCE:0
TRANSP:OPAQUE
END:VEVENT
END:VCALENDAR