BEGIN:VCALENDAR
VERSION:2.0
PRODID:-//jEvents 2.0 for Joomla//EN
CALSCALE:GREGORIAN
METHOD:PUBLISH
BEGIN:VTIMEZONE
TZID:Asia/Kuala_Lumpur
BEGIN:STANDARD
DTSTART:20140517T080000
RDATE:20380119T111407
TZOFFSETFROM:+0800
TZOFFSETTO:+0800
TZNAME:Asia/Kuala_Lumpur +08
END:STANDARD
END:VTIMEZONE
BEGIN:VEVENT
UID:6e06a0686e680f395a76bd5c37a3a634
CATEGORIES:Oil & Gas
SUMMARY:2015 APPEA Conference & Exhibition
LOCATION:Melbourne
DESCRIPTION;ENCODING=QUOTED-PRINTABLE:
DTSTAMP:20260421T143825Z
DTSTART;TZID=Asia/Kuala_Lumpur:20150518T080000
DTEND;TZID=Asia/Kuala_Lumpur:20150520T170000
SEQUENCE:0
TRANSP:OPAQUE
END:VEVENT
END:VCALENDAR